BEGIN:VCALENDAR
VERSION:2.0
PRODID:-//eventon.com NONSGML v1.0//EN
CALSCALE:GREGORIAN
METHOD:PUBLISH
BEGIN:VEVENT
UID:69e73d021b6b1
DTSTAMP:20260421T090154Z
DTSTART:20260412T100000Z
DTEND:20260412T110000Z
LOCATION:
SUMMARY:10.00 Eredienst
DESCRIPTION:\nhttps://www.emmauskerk-amersfoort.nl/events/10-00-eredienst-3
 /
URL:https://www.emmauskerk-amersfoort.nl/events/10-00-eredienst-3/
END:VEVENT
END:VCALENDAR