BEGIN:VCALENDAR
VERSION:2.0
PRODID:-//eventon.com NONSGML v1.0//EN
CALSCALE:GREGORIAN
METHOD:PUBLISH
BEGIN:VEVENT
UID:69e5e06a98bfc
DTSTAMP:20260420T081434Z
DTSTART:20260403T193000Z
DTEND:20260403T200000Z
LOCATION:
SUMMARY:19.30 uur Vesper
DESCRIPTION:\nhttps://www.emmauskerk-amersfoort.nl/events/19-30-uur-vesper-
 6/
URL:https://www.emmauskerk-amersfoort.nl/events/19-30-uur-vesper-6/
END:VEVENT
END:VCALENDAR