BEGIN:VCALENDAR
VERSION:2.0
PRODID:-//eventon.com NONSGML v1.0//EN
CALSCALE:GREGORIAN
METHOD:PUBLISH
BEGIN:VEVENT
UID:69e73c245f5ae
DTSTAMP:20260421T085812Z
DTSTART:20260401T193000Z
DTEND:20260401T200000Z
LOCATION:
SUMMARY:19.30 uur Vesper
DESCRIPTION:\nhttps://www.emmauskerk-amersfoort.nl/events/10-00-eredienst-2
 /
URL:https://www.emmauskerk-amersfoort.nl/events/10-00-eredienst-2/
END:VEVENT
END:VCALENDAR