BEGIN:VCALENDAR
VERSION:2.0
PRODID:-//eventon.com NONSGML v1.0//EN
CALSCALE:GREGORIAN
METHOD:PUBLISH
BEGIN:VEVENT
UID:69e73b203bc6d
DTSTAMP:20260421T085352Z
DTSTART:20260125T100000Z
DTEND:20260125T110000Z
LOCATION:
SUMMARY:10.00 uur Eredienst
DESCRIPTION:\nhttps://www.emmauskerk-amersfoort.nl/events/10-00-uur-eredien
 st-41/
URL:https://www.emmauskerk-amersfoort.nl/events/10-00-uur-eredienst-41/
END:VEVENT
END:VCALENDAR