BEGIN:VCALENDAR
VERSION:2.0
PRODID:-//eventon.com NONSGML v1.0//EN
CALSCALE:GREGORIAN
METHOD:PUBLISH
BEGIN:VEVENT
UID:69e73b9c568ce
DTSTAMP:20260421T085556Z
DTSTART:20251214T100000Z
DTEND:20251214T110000Z
LOCATION:
SUMMARY:10.00 uur  We gaan naar de Fonteinkerk!!
DESCRIPTION:\nhttps://www.emmauskerk-amersfoort.nl/events/10-00-uur-eredien
 st-3e-advent-dienst-van-schrift-en-tafel/
URL:https://www.emmauskerk-amersfoort.nl/events/10-00-uur-eredienst-3e-advent-dienst-van-schrift-en-tafel/
END:VEVENT
END:VCALENDAR