BEGIN:VCALENDAR
VERSION:2.0
PRODID:-//eventon.com NONSGML v1.0//EN
CALSCALE:GREGORIAN
METHOD:PUBLISH
BEGIN:VEVENT
UID:69e739d1c0a75
DTSTAMP:20260421T084817Z
DTSTART:20251116T100000Z
DTEND:20251116T110000Z
LOCATION:
SUMMARY:10.00 uur NAAR DE FONTEIN
DESCRIPTION:\nhttps://www.emmauskerk-amersfoort.nl/events/10-00-uur-eredien
 st-36/
URL:https://www.emmauskerk-amersfoort.nl/events/10-00-uur-eredienst-36/
END:VEVENT
END:VCALENDAR