BEGIN:VCALENDAR
VERSION:2.0
PRODID:-//eventon.com NONSGML v1.0//EN
CALSCALE:GREGORIAN
METHOD:PUBLISH
BEGIN:VEVENT
UID:69e738c64cf53
DTSTAMP:20260421T084350Z
DTSTART:20250817T100000Z
DTEND:20250817T110000Z
LOCATION:
SUMMARY:10.00 uur Dienst in de Fonteinkerk
DESCRIPTION:\nhttps://www.emmauskerk-amersfoort.nl/events/10-00-uur-dienst-
 in-de-fonteinkerk/
URL:https://www.emmauskerk-amersfoort.nl/events/10-00-uur-dienst-in-de-fonteinkerk/
END:VEVENT
END:VCALENDAR