BEGIN:VCALENDAR
VERSION:2.0
PRODID:-//eventon.com NONSGML v1.0//EN
CALSCALE:GREGORIAN
METHOD:PUBLISH
BEGIN:VEVENT
UID:69e60c741ec50
DTSTAMP:20260420T112228Z
DTSTART:20250720T100000Z
DTEND:20250720T110000Z
LOCATION:
SUMMARY:10.00 uur naar de Fontein
DESCRIPTION:\nhttps://www.emmauskerk-amersfoort.nl/events/10-00-uur-naar-de
 -fontein/
URL:https://www.emmauskerk-amersfoort.nl/events/10-00-uur-naar-de-fontein/
END:VEVENT
END:VCALENDAR