BEGIN:VCALENDAR
VERSION:2.0
PRODID:-//eventon.com NONSGML v1.0//EN
CALSCALE:GREGORIAN
METHOD:PUBLISH
BEGIN:VEVENT
UID:69e99c5202074
DTSTAMP:20260423T041306Z
DTSTART:20250608T100000Z
DTEND:20250608T110000Z
LOCATION:
SUMMARY:Pinksterzondag. 10.00 uur Eredienst
DESCRIPTION:\nhttps://www.emmauskerk-amersfoort.nl/events/pinksterzondag-10
 -00-uur-eredienst/
URL:https://www.emmauskerk-amersfoort.nl/events/pinksterzondag-10-00-uur-eredienst/
END:VEVENT
END:VCALENDAR