BEGIN:VCALENDAR
VERSION:2.0
PRODID:-//eventon.com NONSGML v1.0//EN
CALSCALE:GREGORIAN
METHOD:PUBLISH
BEGIN:VEVENT
UID:69e738424328f
DTSTAMP:20260421T084138Z
DTSTART:20250417T190000Z
DTEND:20250417T200000Z
LOCATION:
SUMMARY:19.00 uur Vesperdienst en Dienst van Schrift en Tafel.                       Let op! Andere begintijd!
DESCRIPTION:\nhttps://www.emmauskerk-amersfoort.nl/events/19-00-uur-vesperd
 ienst-en-dienst-van-schrift-en-tafel-let-op-andere-begintijd/
URL:https://www.emmauskerk-amersfoort.nl/events/19-00-uur-vesperdienst-en-dienst-van-schrift-en-tafel-let-op-andere-begintijd/
END:VEVENT
END:VCALENDAR