BEGIN:VCALENDAR
VERSION:2.0
PRODID:-//eventon.com NONSGML v1.0//EN
CALSCALE:GREGORIAN
METHOD:PUBLISH
BEGIN:VEVENT
UID:69e7388cb23e7
DTSTAMP:20260421T084252Z
DTSTART:20250323T100000Z
DTEND:20250323T110000Z
LOCATION:
SUMMARY:10.00 uur Eredienst
DESCRIPTION:\nhttps://www.emmauskerk-amersfoort.nl/events/10-00-uur-eredien
 st-12/
URL:https://www.emmauskerk-amersfoort.nl/events/10-00-uur-eredienst-12/
END:VEVENT
END:VCALENDAR