BEGIN:VCALENDAR
VERSION:2.0
PRODID:-//eventon.com NONSGML v1.0//EN
CALSCALE:GREGORIAN
METHOD:PUBLISH
BEGIN:VEVENT
UID:69e63367c1df9
DTSTAMP:20260420T140839Z
DTSTART:20250202T100000Z
DTEND:20250202T110000Z
LOCATION:
SUMMARY:10.00 uur Eredienst
DESCRIPTION:\nhttps://www.emmauskerk-amersfoort.nl/events/10-00-uur-eredien
 st-5/
URL:https://www.emmauskerk-amersfoort.nl/events/10-00-uur-eredienst-5/
END:VEVENT
END:VCALENDAR