BEGIN:VCALENDAR
VERSION:2.0
PRODID:-//eventon.com NONSGML v1.0//EN
CALSCALE:GREGORIAN
METHOD:PUBLISH
BEGIN:VEVENT
UID:69e60b07467e4
DTSTAMP:20260420T111623Z
DTSTART:20250119T100000Z
DTEND:20250119T110000Z
LOCATION:
SUMMARY:10.00 uur Eredienst
DESCRIPTION:\nhttps://www.emmauskerk-amersfoort.nl/events/10-00-uur-eredien
 st-3/
URL:https://www.emmauskerk-amersfoort.nl/events/10-00-uur-eredienst-3/
END:VEVENT
END:VCALENDAR