BEGIN:VCALENDAR
VERSION:2.0
PRODID:-//eventon.com NONSGML v1.0//EN
CALSCALE:GREGORIAN
METHOD:PUBLISH
BEGIN:VEVENT
UID:69ed618f0296d
DTSTAMP:20260426T005127Z
DTSTART:20241224T210000Z
DTEND:20241224T220000Z
LOCATION:
SUMMARY:21.00 uur Kerstzangdienst
DESCRIPTION:\nhttps://www.emmauskerk-amersfoort.nl/events/kerstavond/
URL:https://www.emmauskerk-amersfoort.nl/events/kerstavond/
END:VEVENT
END:VCALENDAR