BEGIN:VCALENDAR
VERSION:2.0
PRODID:-//eventon.com NONSGML v1.0//EN
CALSCALE:GREGORIAN
METHOD:PUBLISH
BEGIN:VEVENT
UID:69eae568412d7
DTSTAMP:20260424T033712Z
DTSTART:20240630T100000Z
DTEND:20240630T110000Z
LOCATION:
SUMMARY:10.00 uur Zondagsdienst
DESCRIPTION:\nhttps://www.emmauskerk-amersfoort.nl/events/10-00-uur-zondags
 dienst-168/
URL:https://www.emmauskerk-amersfoort.nl/events/10-00-uur-zondagsdienst-168/
END:VEVENT
END:VCALENDAR