BEGIN:VCALENDAR
VERSION:2.0
PRODID:-//eventon.com NONSGML v1.0//EN
CALSCALE:GREGORIAN
METHOD:PUBLISH
BEGIN:VEVENT
UID:69ed2f4f84102
DTSTAMP:20260425T211703Z
DTSTART:20240825T100000Z
DTEND:20240825T110000Z
LOCATION:
SUMMARY:10.00 uur Zondagsdienst
DESCRIPTION:\nhttps://www.emmauskerk-amersfoort.nl/events/10-00-uur-zondags
 dienst-165/
URL:https://www.emmauskerk-amersfoort.nl/events/10-00-uur-zondagsdienst-165/
END:VEVENT
END:VCALENDAR