BEGIN:VCALENDAR
VERSION:2.0
PRODID:-//eventon.com NONSGML v1.0//EN
CALSCALE:GREGORIAN
METHOD:PUBLISH
BEGIN:VEVENT
UID:69e5e23eee045
DTSTAMP:20260420T082222Z
DTSTART:20240505T100000Z
DTEND:20240505T110000Z
LOCATION:
SUMMARY:10.00 uur Zondagsdienst: Bevrijdingsdag
DESCRIPTION:\nhttps://www.emmauskerk-amersfoort.nl/events/10-00-uur-zondags
 dienst-bevrijdingsdag/
URL:https://www.emmauskerk-amersfoort.nl/events/10-00-uur-zondagsdienst-bevrijdingsdag/
END:VEVENT
END:VCALENDAR