BEGIN:VCALENDAR
VERSION:2.0
PRODID:-//eventon.com NONSGML v1.0//EN
CALSCALE:GREGORIAN
METHOD:PUBLISH
BEGIN:VEVENT
UID:69e5f99a849c2
DTSTAMP:20260420T100202Z
DTSTART:20240414T100000Z
DTEND:20240414T110000Z
LOCATION:
SUMMARY:10.00 uur Zondagsdienst
DESCRIPTION:\nhttps://www.emmauskerk-amersfoort.nl/events/10-00-uur-zondags
 dienst-158/
URL:https://www.emmauskerk-amersfoort.nl/events/10-00-uur-zondagsdienst-158/
END:VEVENT
END:VCALENDAR