BEGIN:VCALENDAR
VERSION:2.0
PRODID:-//eventon.com NONSGML v1.0//EN
CALSCALE:GREGORIAN
METHOD:PUBLISH
BEGIN:VEVENT
UID:69e74e7d99de7
DTSTAMP:20260421T101629Z
DTSTART:20240331T080000Z
DTEND:20240331T090000Z
LOCATION:
SUMMARY:21.00 uur: Vesper Stille zaterdag
DESCRIPTION:\nhttps://www.emmauskerk-amersfoort.nl/events/21-00-uur-vesper-
 stille-zaterdag/
URL:https://www.emmauskerk-amersfoort.nl/events/21-00-uur-vesper-stille-zaterdag/
END:VEVENT
END:VCALENDAR