BEGIN:VCALENDAR
VERSION:2.0
PRODID:-//eventon.com NONSGML v1.0//EN
CALSCALE:GREGORIAN
METHOD:PUBLISH
BEGIN:VEVENT
UID:69e764c89b39c
DTSTAMP:20260421T115136Z
DTSTART:20240330T063000Z
DTEND:20240330T070000Z
LOCATION:
SUMMARY:19.30 Vesper : Goede vrijdag
DESCRIPTION:\nhttps://www.emmauskerk-amersfoort.nl/events/19-30-vesper-goed
 e-vrijdag-2/
URL:https://www.emmauskerk-amersfoort.nl/events/19-30-vesper-goede-vrijdag-2/
END:VEVENT
END:VCALENDAR