BEGIN:VCALENDAR
VERSION:2.0
PRODID:-//eventon.com NONSGML v1.0//EN
CALSCALE:GREGORIAN
METHOD:PUBLISH
BEGIN:VEVENT
UID:69e779b405711
DTSTAMP:20260421T132052Z
DTSTART:20240329T060000Z
DTEND:20240329T073000Z
LOCATION:
SUMMARY:19.00 uur Vesper met Dienst van schrift en tafel
DESCRIPTION:\nhttps://www.emmauskerk-amersfoort.nl/events/19-30-uur-vesper-
 met-dienst-van-schrift-en-tafel/
URL:https://www.emmauskerk-amersfoort.nl/events/19-30-uur-vesper-met-dienst-van-schrift-en-tafel/
END:VEVENT
END:VCALENDAR