BEGIN:VCALENDAR
VERSION:2.0
PRODID:-//eventon.com NONSGML v1.0//EN
CALSCALE:GREGORIAN
METHOD:PUBLISH
BEGIN:VEVENT
UID:69e795e30e87e
DTSTAMP:20260421T152107Z
DTSTART:20240328T063000Z
DTEND:20240328T070000Z
LOCATION:
SUMMARY:19.30 uur Vesper
DESCRIPTION:\nhttps://www.emmauskerk-amersfoort.nl/events/19-30-uur-vesper-
 5/
URL:https://www.emmauskerk-amersfoort.nl/events/19-30-uur-vesper-5/
END:VEVENT
END:VCALENDAR