BEGIN:VCALENDAR
VERSION:2.0
PRODID:-//eventon.com NONSGML v1.0//EN
CALSCALE:GREGORIAN
METHOD:PUBLISH
BEGIN:VEVENT
UID:69e7aac6450d4
DTSTAMP:20260421T165014Z
DTSTART:20240327T063000Z
DTEND:20240327T070000Z
LOCATION:
SUMMARY:19.30 Vesper
DESCRIPTION:\nhttps://www.emmauskerk-amersfoort.nl/events/19-30-vesper-3/
URL:https://www.emmauskerk-amersfoort.nl/events/19-30-vesper-3/
END:VEVENT
END:VCALENDAR