BEGIN:VCALENDAR
VERSION:2.0
PRODID:-//eventon.com NONSGML v1.0//EN
CALSCALE:GREGORIAN
METHOD:PUBLISH
BEGIN:VEVENT
UID:69e7c00256312
DTSTAMP:20260421T182050Z
DTSTART:20240326T063000Z
DTEND:20240326T070000Z
LOCATION:
SUMMARY:19.30 uur Vesper
DESCRIPTION:\nhttps://www.emmauskerk-amersfoort.nl/events/19-30-uur-vesper-
 4/
URL:https://www.emmauskerk-amersfoort.nl/events/19-30-uur-vesper-4/
END:VEVENT
END:VCALENDAR