BEGIN:VCALENDAR
VERSION:2.0
PRODID:-//eventon.com NONSGML v1.0//EN
CALSCALE:GREGORIAN
METHOD:PUBLISH
BEGIN:VEVENT
UID:69e76f6669f70
DTSTAMP:20260421T123654Z
DTSTART:20240310T210000Z
DTEND:20240310T220000Z
LOCATION:
SUMMARY:10.00 uur Zondagsdienst
DESCRIPTION:\nhttps://www.emmauskerk-amersfoort.nl/events/10-00-uur-zondags
 dienst-154/
URL:https://www.emmauskerk-amersfoort.nl/events/10-00-uur-zondagsdienst-154/
END:VEVENT
END:VCALENDAR