BEGIN:VCALENDAR
VERSION:2.0
PRODID:-//eventon.com NONSGML v1.0//EN
CALSCALE:GREGORIAN
METHOD:PUBLISH
BEGIN:VEVENT
UID:69e763c9d0fa8
DTSTAMP:20260421T114721Z
DTSTART:20240303T210000Z
DTEND:20240303T220000Z
LOCATION:
SUMMARY:10.00 Zondagsdienst
DESCRIPTION:\nhttps://www.emmauskerk-amersfoort.nl/events/10-00-zondagsdien
 st-4/
URL:https://www.emmauskerk-amersfoort.nl/events/10-00-zondagsdienst-4/
END:VEVENT
END:VCALENDAR