BEGIN:VCALENDAR
VERSION:2.0
PRODID:-//eventon.com NONSGML v1.0//EN
CALSCALE:GREGORIAN
METHOD:PUBLISH
BEGIN:VEVENT
UID:69e74d476fd70
DTSTAMP:20260421T101119Z
DTSTART:20240225T210000Z
DTEND:20240225T220000Z
LOCATION:
SUMMARY:10.00 uur Zondagsdienst
DESCRIPTION:\nhttps://www.emmauskerk-amersfoort.nl/events/10-00-uur-zondags
 dienst-153/
URL:https://www.emmauskerk-amersfoort.nl/events/10-00-uur-zondagsdienst-153/
END:VEVENT
END:VCALENDAR