BEGIN:VCALENDAR
VERSION:2.0
PRODID:-//eventon.com NONSGML v1.0//EN
CALSCALE:GREGORIAN
METHOD:PUBLISH
BEGIN:VEVENT
UID:69e74d7963650
DTSTAMP:20260421T101209Z
DTSTART:20240204T210000Z
DTEND:20240204T220000Z
LOCATION:
SUMMARY:10.00 uur Zondagsdienst
DESCRIPTION:\nhttps://www.emmauskerk-amersfoort.nl/events/10-00-uur-zondags
 dienst-151/
URL:https://www.emmauskerk-amersfoort.nl/events/10-00-uur-zondagsdienst-151/
END:VEVENT
END:VCALENDAR