BEGIN:VCALENDAR
VERSION:2.0
PRODID:-//eventon.com NONSGML v1.0//EN
CALSCALE:GREGORIAN
METHOD:PUBLISH
BEGIN:VEVENT
UID:69e73995592a6
DTSTAMP:20260421T084717Z
DTSTART:20240107T210000Z
DTEND:20240107T220000Z
LOCATION:
SUMMARY:10.00 uur Nieuwjaarsbegroeting
DESCRIPTION:\nhttps://www.emmauskerk-amersfoort.nl/events/10-00-uur-nieuwja
 arsbegroeting/
URL:https://www.emmauskerk-amersfoort.nl/events/10-00-uur-nieuwjaarsbegroeting/
END:VEVENT
END:VCALENDAR