BEGIN:VCALENDAR
VERSION:2.0
PRODID:-//eventon.com NONSGML v1.0//EN
CALSCALE:GREGORIAN
METHOD:PUBLISH
BEGIN:VEVENT
UID:69e773602d532
DTSTAMP:20260421T125352Z
DTSTART:20231204T040000Z
DTEND:20231204T050000Z
LOCATION:
SUMMARY:17.00 uur: Eerste Advent Vesper
DESCRIPTION:\nhttps://www.emmauskerk-amersfoort.nl/events/17-00-uur-eerste-
 advent-vesper/
URL:https://www.emmauskerk-amersfoort.nl/events/17-00-uur-eerste-advent-vesper/
END:VEVENT
END:VCALENDAR