BEGIN:VCALENDAR
VERSION:2.0
PRODID:-//eventon.com NONSGML v1.0//EN
CALSCALE:GREGORIAN
METHOD:PUBLISH
BEGIN:VEVENT
UID:69e738f532466
DTSTAMP:20260421T084437Z
DTSTART:20231203T210000Z
DTEND:20231203T220000Z
LOCATION:
SUMMARY:10.00 uur Zondagsdienst:  Eerste Advent
DESCRIPTION:\nhttps://www.emmauskerk-amersfoort.nl/events/10-00-uur-zondags
 dienst-eerste-advent/
URL:https://www.emmauskerk-amersfoort.nl/events/10-00-uur-zondagsdienst-eerste-advent/
END:VEVENT
END:VCALENDAR