BEGIN:VCALENDAR
VERSION:2.0
PRODID:-//eventon.com NONSGML v1.0//EN
CALSCALE:GREGORIAN
METHOD:PUBLISH
BEGIN:VEVENT
UID:69e5e3cc609c0
DTSTAMP:20260420T082900Z
DTSTART:20231112T210000Z
DTEND:20231112T220000Z
LOCATION:
SUMMARY:10.00 uur Zondagsdienst
DESCRIPTION:\nhttps://www.emmauskerk-amersfoort.nl/events/10-00-uur-zondags
 dienst-143/
URL:https://www.emmauskerk-amersfoort.nl/events/10-00-uur-zondagsdienst-143/
END:VEVENT
END:VCALENDAR