BEGIN:VCALENDAR
VERSION:2.0
PRODID:-//eventon.com NONSGML v1.0//EN
CALSCALE:GREGORIAN
METHOD:PUBLISH
BEGIN:VEVENT
UID:69ed24aaac9a1
DTSTAMP:20260425T203138Z
DTSTART:20230806T210000Z
DTEND:20230806T220000Z
LOCATION:
SUMMARY:We kerken in de Hoeksteen vandaag
DESCRIPTION:\nhttps://www.emmauskerk-amersfoort.nl/events/we-kerken-in-de-h
 oeksteen-vandaag-2/
URL:https://www.emmauskerk-amersfoort.nl/events/we-kerken-in-de-hoeksteen-vandaag-2/
END:VEVENT
END:VCALENDAR