BEGIN:VCALENDAR
VERSION:2.0
PRODID:-//eventon.com NONSGML v1.0//EN
CALSCALE:GREGORIAN
METHOD:PUBLISH
BEGIN:VEVENT
UID:69e636d13a569
DTSTAMP:20260420T142313Z
DTSTART:20230730T210000Z
DTEND:20230730T220000Z
LOCATION:
SUMMARY:We kerken in de Bron vandaag
DESCRIPTION:\nhttps://www.emmauskerk-amersfoort.nl/events/we-kerken-in-de-b
 ron-vandaag-2/
URL:https://www.emmauskerk-amersfoort.nl/events/we-kerken-in-de-bron-vandaag-2/
END:VEVENT
END:VCALENDAR