BEGIN:VCALENDAR
VERSION:2.0
PRODID:-//eventon.com NONSGML v1.0//EN
CALSCALE:GREGORIAN
METHOD:PUBLISH
BEGIN:VEVENT
UID:69e60d786cb65
DTSTAMP:20260420T112648Z
DTSTART:20230716T210000Z
DTEND:20230716T220000Z
LOCATION:
SUMMARY:We kerken in de Hoeksteen vandaag!
DESCRIPTION:\nhttps://www.emmauskerk-amersfoort.nl/events/we-kerken-in-de-h
 oeksteen-vandaag/
URL:https://www.emmauskerk-amersfoort.nl/events/we-kerken-in-de-hoeksteen-vandaag/
END:VEVENT
END:VCALENDAR