BEGIN:VCALENDAR
VERSION:2.0
PRODID:-//eventon.com NONSGML v1.0//EN
CALSCALE:GREGORIAN
METHOD:PUBLISH
BEGIN:VEVENT
UID:69e5f880211f9
DTSTAMP:20260420T095720Z
DTSTART:20230709T210000Z
DTEND:20230709T220000Z
LOCATION:
SUMMARY:We kerken in de Bron vandaag!
DESCRIPTION:\nhttps://www.emmauskerk-amersfoort.nl/events/we-kerken-in-de-b
 ron-vandaag/
URL:https://www.emmauskerk-amersfoort.nl/events/we-kerken-in-de-bron-vandaag/
END:VEVENT
END:VCALENDAR