BEGIN:VCALENDAR
VERSION:2.0
PRODID:-//eventon.com NONSGML v1.0//EN
CALSCALE:GREGORIAN
METHOD:PUBLISH
BEGIN:VEVENT
UID:69e737593b11c
DTSTAMP:20260421T083745Z
DTSTART:20230521T210000Z
DTEND:20230521T220000Z
LOCATION:
SUMMARY:10.00 uur Zondagsdienst
DESCRIPTION:\nhttps://www.emmauskerk-amersfoort.nl/events/10-00-uur-zondags
 dienst-128/
URL:https://www.emmauskerk-amersfoort.nl/events/10-00-uur-zondagsdienst-128/
END:VEVENT
END:VCALENDAR