BEGIN:VCALENDAR
VERSION:2.0
PRODID:-//eventon.com NONSGML v1.0//EN
CALSCALE:GREGORIAN
METHOD:PUBLISH
BEGIN:VEVENT
UID:69e68c7f84eea
DTSTAMP:20260420T202847Z
DTSTART:20230407T071500Z
DTEND:20230407T090000Z
LOCATION:
SUMMARY:Samen naar The Passion kijken
DESCRIPTION:\nhttps://www.emmauskerk-amersfoort.nl/events/samen-naar-the-pa
 ssion-kijken/
URL:https://www.emmauskerk-amersfoort.nl/events/samen-naar-the-passion-kijken/
END:VEVENT
END:VCALENDAR