BEGIN:VCALENDAR
VERSION:2.0
PRODID:-//eventon.com NONSGML v1.0//EN
CALSCALE:GREGORIAN
METHOD:PUBLISH
BEGIN:VEVENT
UID:69e75017497cf
DTSTAMP:20260421T102319Z
DTSTART:20230305T210000Z
DTEND:20230305T220000Z
LOCATION:
SUMMARY:10.00 uur Zondagsdienst
DESCRIPTION:\nhttps://www.emmauskerk-amersfoort.nl/events/10-00-uur-zondags
 dienst-118/
URL:https://www.emmauskerk-amersfoort.nl/events/10-00-uur-zondagsdienst-118/
END:VEVENT
END:VCALENDAR