BEGIN:VCALENDAR
VERSION:2.0
PRODID:-//eventon.com NONSGML v1.0//EN
CALSCALE:GREGORIAN
METHOD:PUBLISH
BEGIN:VEVENT
UID:69e73c0f25059
DTSTAMP:20260421T085751Z
DTSTART:20230212T210000Z
DTEND:20230212T220000Z
LOCATION:
SUMMARY:10.00 uur Zondagsdienst
DESCRIPTION:\nhttps://www.emmauskerk-amersfoort.nl/events/10-00-uur-zondags
 dienst-115/
URL:https://www.emmauskerk-amersfoort.nl/events/10-00-uur-zondagsdienst-115/
END:VEVENT
END:VCALENDAR