BEGIN:VCALENDAR
VERSION:2.0
PRODID:-//eventon.com NONSGML v1.0//EN
CALSCALE:GREGORIAN
METHOD:PUBLISH
BEGIN:VEVENT
UID:69e7775d989a1
DTSTAMP:20260421T131053Z
DTSTART:20221225T080000Z
DTEND:20221225T090000Z
LOCATION:
SUMMARY:21.00 uur Kerstzangdienst; inloop vanaf 20.30 uur
DESCRIPTION:\nhttps://www.emmauskerk-amersfoort.nl/events/kerstzangdienst/
URL:https://www.emmauskerk-amersfoort.nl/events/kerstzangdienst/
END:VEVENT
END:VCALENDAR