BEGIN:VCALENDAR
VERSION:2.0
PRODID:-//eventon.com NONSGML v1.0//EN
CALSCALE:GREGORIAN
METHOD:PUBLISH
BEGIN:VEVENT
UID:69e762a6b7d9d
DTSTAMP:20260421T114230Z
DTSTART:20221225T210000Z
DTEND:20221225T220000Z
LOCATION:
SUMMARY:10.00 uur Viering 1e Kerstdag
DESCRIPTION:10.00 uur Viering 1e Kerstdag\nhttps://www.emmauskerk-amersfoor
 t.nl/events/10-00-uur-viering-1e-kerstdag/
URL:https://www.emmauskerk-amersfoort.nl/events/10-00-uur-viering-1e-kerstdag/
END:VEVENT
END:VCALENDAR