BEGIN:VCALENDAR
VERSION:2.0
PRODID:-//eventon.com NONSGML v1.0//EN
CALSCALE:GREGORIAN
METHOD:PUBLISH
BEGIN:VEVENT
UID:69e7377e069c6
DTSTAMP:20260421T083822Z
DTSTART:20220826T154000Z
DTEND:20220826T154000Z
LOCATION:
SUMMARY:Kerstavond viering
DESCRIPTION:Kerstavond viering\nhttps://www.emmauskerk-amersfoort.nl/events
 /kerstavond-viering/
URL:https://www.emmauskerk-amersfoort.nl/events/kerstavond-viering/
END:VEVENT
END:VCALENDAR