BEGIN:VCALENDAR
VERSION:2.0
PRODID:-//eventon.com NONSGML v1.0//EN
CALSCALE:GREGORIAN
METHOD:PUBLISH
BEGIN:VEVENT
UID:69ebca89642fc
DTSTAMP:20260424T195449Z
DTSTART:20221106T210000Z
DTEND:20221106T220000Z
LOCATION:
SUMMARY:10.00 uur Zondagsdienst
DESCRIPTION:10.00 uur Zondagsdienst\nhttps://www.emmauskerk-amersfoort.nl/e
 vents/10-00-uur-zondagsdienst-104/
URL:https://www.emmauskerk-amersfoort.nl/events/10-00-uur-zondagsdienst-104/
END:VEVENT
END:VCALENDAR