BEGIN:VCALENDAR
VERSION:2.0
PRODID:-//eventon.com NONSGML v1.0//EN
CALSCALE:GREGORIAN
METHOD:PUBLISH
BEGIN:VEVENT
UID:69e739d984fad
DTSTAMP:20260421T084825Z
DTSTART:20220724T210000Z
DTEND:20220724T220000Z
LOCATION:
SUMMARY:10.00 uur Zondagsdienst
DESCRIPTION:10.00 uur Zondagsdienst\nhttps://www.emmauskerk-amersfoort.nl/e
 vents/10-00-uur-zondagsdienst-53/
URL:https://www.emmauskerk-amersfoort.nl/events/10-00-uur-zondagsdienst-53/
END:VEVENT
END:VCALENDAR