BEGIN:VCALENDAR
VERSION:2.0
PRODID:-//eventon.com NONSGML v1.0//EN
CALSCALE:GREGORIAN
METHOD:PUBLISH
BEGIN:VEVENT
UID:69e76390974f6
DTSTAMP:20260421T114624Z
DTSTART:20220717T210000Z
DTEND:20220717T220000Z
LOCATION:
SUMMARY:10.00 uur Zondagsdienst
DESCRIPTION:10.00 uur Zondagsdienst\nhttps://www.emmauskerk-amersfoort.nl/e
 vents/10-00-uur-zondagsdienst-52/
URL:https://www.emmauskerk-amersfoort.nl/events/10-00-uur-zondagsdienst-52/
END:VEVENT
END:VCALENDAR