BEGIN:VCALENDAR
VERSION:2.0
PRODID:-//eventon.com NONSGML v1.0//EN
CALSCALE:GREGORIAN
METHOD:PUBLISH
BEGIN:VEVENT
UID:69e7b7101ee8e
DTSTAMP:20260421T174240Z
DTSTART:20220619T210000Z
DTEND:20220619T220000Z
LOCATION:
SUMMARY:10.00 uur Kerkdienst in de Bron!
DESCRIPTION:10.00 uur Kerkdienst in de Bron!\nhttps://www.emmauskerk-amersf
 oort.nl/events/10-00-uur-zondagsdienst-48/
URL:https://www.emmauskerk-amersfoort.nl/events/10-00-uur-zondagsdienst-48/
END:VEVENT
END:VCALENDAR