BEGIN:VCALENDAR
VERSION:2.0
PRODID:-//eventon.com NONSGML v1.0//EN
CALSCALE:GREGORIAN
METHOD:PUBLISH
BEGIN:VEVENT
UID:69e78a61bff29
DTSTAMP:20260421T143201Z
DTSTART:20220605T210000Z
DTEND:20220605T220000Z
LOCATION:
SUMMARY:10.00 uur Pinksteren
DESCRIPTION:10.00 uur Pinksteren\nhttps://www.emmauskerk-amersfoort.nl/even
 ts/10-00-uur-pinksteren/
URL:https://www.emmauskerk-amersfoort.nl/events/10-00-uur-pinksteren/
END:VEVENT
END:VCALENDAR