BEGIN:VCALENDAR
VERSION:2.0
PRODID:-//eventon.com NONSGML v1.0//EN
CALSCALE:GREGORIAN
METHOD:PUBLISH
BEGIN:VEVENT
UID:69e737f548968
DTSTAMP:20260421T084021Z
DTSTART:20220417T080000Z
DTEND:20220417T090000Z
LOCATION:
SUMMARY:21.00 uur Stille Zaterdag
DESCRIPTION:21.00 uur Stille Zaterdag\nhttps://www.emmauskerk-amersfoort.nl
 /events/21-00-uur-stille-zaterdag/
URL:https://www.emmauskerk-amersfoort.nl/events/21-00-uur-stille-zaterdag/
END:VEVENT
END:VCALENDAR