BEGIN:VCALENDAR
VERSION:2.0
PRODID:-//eventon.com NONSGML v1.0//EN
CALSCALE:GREGORIAN
METHOD:PUBLISH
BEGIN:VEVENT
UID:69e76318d4176
DTSTAMP:20260421T114424Z
DTSTART:20220416T063000Z
DTEND:20220416T070000Z
LOCATION:
SUMMARY:19.30 Vesper. Goede Vrijdag
DESCRIPTION:19.30 Vesper. Goede Vrijdag\nhttps://www.emmauskerk-amersfoort.
 nl/events/19-30-vesper-goede-vrijdag/
URL:https://www.emmauskerk-amersfoort.nl/events/19-30-vesper-goede-vrijdag/
END:VEVENT
END:VCALENDAR